BEGIN:VCALENDAR
VERSION:2.0
PRODID:-//Nürnberg autofrei - ECPv6.15.20//NONSGML v1.0//EN
CALSCALE:GREGORIAN
METHOD:PUBLISH
X-WR-CALNAME:Nürnberg autofrei
X-ORIGINAL-URL:https://autofrei-nbg.de
X-WR-CALDESC:Veranstaltungen für Nürnberg autofrei
REFRESH-INTERVAL;VALUE=DURATION:PT1H
X-Robots-Tag:noindex
X-PUBLISHED-TTL:PT1H
BEGIN:VTIMEZONE
TZID:Europe/Paris
BEGIN:DAYLIGHT
TZOFFSETFROM:+0100
TZOFFSETTO:+0200
TZNAME:CEST
DTSTART:20210328T010000
END:DAYLIGHT
BEGIN:STANDARD
TZOFFSETFROM:+0200
TZOFFSETTO:+0100
TZNAME:CET
DTSTART:20211031T010000
END:STANDARD
BEGIN:DAYLIGHT
TZOFFSETFROM:+0100
TZOFFSETTO:+0200
TZNAME:CEST
DTSTART:20220327T010000
END:DAYLIGHT
BEGIN:STANDARD
TZOFFSETFROM:+0200
TZOFFSETTO:+0100
TZNAME:CET
DTSTART:20221030T010000
END:STANDARD
BEGIN:DAYLIGHT
TZOFFSETFROM:+0100
TZOFFSETTO:+0200
TZNAME:CEST
DTSTART:20230326T010000
END:DAYLIGHT
BEGIN:STANDARD
TZOFFSETFROM:+0200
TZOFFSETTO:+0100
TZNAME:CET
DTSTART:20231029T010000
END:STANDARD
END:VTIMEZONE
BEGIN:VEVENT
DTSTART;TZID=Europe/Paris:20221110T190000
DTEND;TZID=Europe/Paris:20221110T210000
DTSTAMP:20260419T152530
CREATED:20221108T192940Z
LAST-MODIFIED:20221119T123624Z
UID:2765-1668106800-1668114000@autofrei-nbg.de
SUMMARY:Diskussionsveranstaltung in der LUISE mit JU\, FW\, Grünen und Nürnberg autofrei!
DESCRIPTION:Am 10.11. gehts heiß her: Wir sitzen mit der Jungen Union\, den Freien Wählern und den Grünen auf der Bühne! Mal sehen\, was der Abend bringt\, und zwar in der Cult-Factory Luise 😉 Packt eure Freund*innen ein und teilt das Event\, wir sehen uns Donnerstag! \n  \nEintritt frei\, Fragen willkommen! \nThema: Nürnberg: Verkehrswende\, wie soll sie gelingen?\n \nMontag\, 10. November 2022\, 19:00 bis 21:00 Uhr\, anschließend Fragen \nmit\nTheo Deinlein\, Junge Union \nThomas Estrada\, Freie Wähler \nAlexander Kahl\, Grüne \nDora Stanic\, Pressesprecherin von Nürnberg Autofrei \nModeration: Florian Hienle\, Nürnberg autofrei
URL:https://autofrei-nbg.de/veranstaltung/luise_disk_ju_fw_gruene/
LOCATION:LUISE – The Cultfactory\, Scharrerstraße 15\, Nürnberg\, Deutschland
ATTACH;FMTTYPE=image/jpeg:https://autofrei-nbg.de/wp-content/uploads/2022/11/Luise_ankuendigung.jpg
ORGANIZER;CN="N%C3%BCrnberg autofrei":MAILTO:kontakt@autofrei-nbg.de
END:VEVENT
BEGIN:VEVENT
DTSTART;TZID=Europe/Paris:20221123T190000
DTEND;TZID=Europe/Paris:20221123T210000
DTSTAMP:20260419T152530
CREATED:20221119T121934Z
LAST-MODIFIED:20221119T122153Z
UID:2872-1669230000-1669237200@autofrei-nbg.de
SUMMARY:Planungs- und Infotreffen zum Superblock in Gostenhof
DESCRIPTION:Ihr wohnt in Gostenhof und wollt mehr über unser Superblock-Projekt erfahren oder ihr möchtet mitgestalten? \nWir treffen uns  am Mittwoch\, den 23.11 um 19:00 Uhr um die nächsten Schritte zu planen. \nDa wir uns privat treffen bitten wir euch um eine Anmeldung unter mitmachen@autofrei-nbg.de\, wir teilen euch dann den Ort mit.
URL:https://autofrei-nbg.de/veranstaltung/planungs-und-infotreffen-zum-superblock-in-gostenhof/
ATTACH;FMTTYPE=image/jpeg:https://autofrei-nbg.de/wp-content/uploads/2022/06/Banner.jpg
ORGANIZER;CN="N%C3%BCrnberg autofrei":MAILTO:kontakt@autofrei-nbg.de
END:VEVENT
BEGIN:VEVENT
DTSTART;TZID=Europe/Paris:20221128T173000
DTEND;TZID=Europe/Paris:20221128T190000
DTSTAMP:20260419T152530
CREATED:20221117T073710Z
LAST-MODIFIED:20221119T123454Z
UID:2843-1669656600-1669662000@autofrei-nbg.de
SUMMARY:Demo: Unsere Autopie bekommt ein neues Zuhause
DESCRIPTION:Unsere Autopie bekommt ein neues Zuhause! \nVon ihrem angestammten Platz an dem sie momentan als Handwagen steht (Aufseßplatz) fahren wir die7 Autopie als Demozug zur LUISE. \n  \nKommt gerne vorbei und unterstützt uns beim Schieben und Aufmerksam machen. Bringt gerne Lichter/Taschenlampen mit! \nAm Montag\, 28.11 um 17:30 Uhr Abfahrt Aufseßplatz (Peter-Henlein Straße)
URL:https://autofrei-nbg.de/veranstaltung/die-autostadt-nuernberg-wie-kommen-wir-zu-weniger-autos/
LOCATION:AUTOpie Parklet\, Peter-Henlein-Straße 65-63\, Nürnberg\, Bayern\, 90459\, Deutschland
ATTACH;FMTTYPE=image/jpeg:https://autofrei-nbg.de/wp-content/uploads/2022/11/ankuendigung_Demo.jpg
ORGANIZER;CN="N%C3%BCrnberg autofrei":MAILTO:kontakt@autofrei-nbg.de
END:VEVENT
BEGIN:VEVENT
DTSTART;TZID=Europe/Paris:20221130T190000
DTEND;TZID=Europe/Paris:20221130T210000
DTSTAMP:20260419T152530
CREATED:20221116T201045Z
LAST-MODIFIED:20221119T123608Z
UID:2820-1669834800-1669842000@autofrei-nbg.de
SUMMARY:Die Autostadt Nürnberg: Wie kommen wir zu weniger Autos?
DESCRIPTION:Vortrag von Professor Dr. Harald Kipke\, Verkehrsforscher der TH Nürnberg \nThema: Nürnberg: Wie kommen wir zu weniger Autos? \nAm Mittwoch\, 30.11 um 19:00 Uhr im Kulturzentrum Kuno \nProf. Dr. Kipke ist eine Koryphähe auf dem Gebiet der Mobilitätsforschung und wir freuen uns einen so renommierten Wissenschaftler als Dozenten für uns gewonnen zu haben. \nAn der TH Nürnberg beschäftigt Kipke sich mit ökonomischen und ökologischen Wirkungen von Verkehrsangebots- und Siedlungsstrukturen\, dem Routenwahlverhalten von Fußgängern und der Entwicklung innovativer Anreizstrukturen zur Förderung eines allmende-optimalen Mobilitätsverhaltens. \nWir freuen uns auf einen informativen Abend und auf die an den Vortrag anschließende Diskussion mit dem Publikum! \n  \nEintritt frei\, Spenden willkommen! \nModeration:  Nürnberg autofrei\n \n  \nHier findet ihr Prof. Kipkes Vortrag beim Kongress des Nürnberg-Fürther Stadtkanals:
URL:https://autofrei-nbg.de/veranstaltung/kipke_kuno_nov/
LOCATION:Kulturzentrum KUNO e. V.\, Wurzelbauerstraße 29\, Nürnberg\, 90409\, Deutschland
ATTACH;FMTTYPE=image/jpeg:https://autofrei-nbg.de/wp-content/uploads/2022/11/Kipke_ankuendigung-1.jpg
ORGANIZER;CN="N%C3%BCrnberg autofrei":MAILTO:kontakt@autofrei-nbg.de
END:VEVENT
END:VCALENDAR