BEGIN:VCALENDAR
VERSION:2.0
PRODID:-//Nürnberg autofrei - ECPv6.15.20//NONSGML v1.0//EN
CALSCALE:GREGORIAN
METHOD:PUBLISH
X-ORIGINAL-URL:https://autofrei-nbg.de
X-WR-CALDESC:Veranstaltungen für Nürnberg autofrei
REFRESH-INTERVAL;VALUE=DURATION:PT1H
X-Robots-Tag:noindex
X-PUBLISHED-TTL:PT1H
BEGIN:VTIMEZONE
TZID:Europe/Paris
BEGIN:DAYLIGHT
TZOFFSETFROM:+0100
TZOFFSETTO:+0200
TZNAME:CEST
DTSTART:20210328T010000
END:DAYLIGHT
BEGIN:STANDARD
TZOFFSETFROM:+0200
TZOFFSETTO:+0100
TZNAME:CET
DTSTART:20211031T010000
END:STANDARD
BEGIN:DAYLIGHT
TZOFFSETFROM:+0100
TZOFFSETTO:+0200
TZNAME:CEST
DTSTART:20220327T010000
END:DAYLIGHT
BEGIN:STANDARD
TZOFFSETFROM:+0200
TZOFFSETTO:+0100
TZNAME:CET
DTSTART:20221030T010000
END:STANDARD
BEGIN:DAYLIGHT
TZOFFSETFROM:+0100
TZOFFSETTO:+0200
TZNAME:CEST
DTSTART:20230326T010000
END:DAYLIGHT
BEGIN:STANDARD
TZOFFSETFROM:+0200
TZOFFSETTO:+0100
TZNAME:CET
DTSTART:20231029T010000
END:STANDARD
END:VTIMEZONE
BEGIN:VEVENT
DTSTART;VALUE=DATE:20220916
DTEND;VALUE=DATE:20220917
DTSTAMP:20260421T133303
CREATED:20220718T125358Z
LAST-MODIFIED:20220913T203429Z
UID:2058-1663286400-1663372799@autofrei-nbg.de
SUMMARY:Parking Day - Großes Kick-off
DESCRIPTION:Unser Kick-Off findet wie geplant am Kornmarkt statt! \nKommt vorbei und sprecht mit uns und unterschreibt unser Bürgerbegehren. \nWir zeigen wie man die graue Betonwüste am Kornmarkt anders nutzen könnte\, ob als Café\, Kinderspielplatz\, Sportstätte oder einfach als Tauschbibliothek schaut euch an\, was wir zu bieten haben und kommt vorbei bei unserem bunten Programm. \nFür Kinder haben wir am Kornmarkt ein extra Programm! \nDas Programm: \n14:00 Vorstellung des Bürgerbegehrens \n14:30 Musik von Malte Klimm (Singer\, Songwriter) \n15:00 Poetry Slam von Michael Jakob \n16:00 Theater Salz und Pfeffer \n17:30 Podiumsdiskussion mit Vetretern von Grünen\, Jusos und der TH-Nürnberg zum Thema Städtische Mobilität der Zukunft \n19:00 Abschlussact: Wollstiefel aus Augsburg (Akustik Punk) \n  \nLadet eure Freunde ein\, bringt eure Familie mit\, wir freuen uns auf rege Teilnahme. \nEssen gibt es gegenüber im EBL\, das Mehrweggeschirr darf dankenswerterweise zu uns an die Parklets mitgenommen werden (Vielen Dank!)\, bitte gebt es danach wieder zuverlässig beim EBL ab!
URL:https://autofrei-nbg.de/veranstaltung/parking-day/
ORGANIZER;CN="N%C3%BCrnberg autofrei":MAILTO:kontakt@autofrei-nbg.de
END:VEVENT
END:VCALENDAR