BEGIN:VCALENDAR
VERSION:2.0
PRODID:-//Nürnberg autofrei - ECPv6.15.20//NONSGML v1.0//EN
CALSCALE:GREGORIAN
METHOD:PUBLISH
X-WR-CALNAME:Nürnberg autofrei
X-ORIGINAL-URL:https://autofrei-nbg.de
X-WR-CALDESC:Veranstaltungen für Nürnberg autofrei
REFRESH-INTERVAL;VALUE=DURATION:PT1H
X-Robots-Tag:noindex
X-PUBLISHED-TTL:PT1H
BEGIN:VTIMEZONE
TZID:Europe/Paris
BEGIN:DAYLIGHT
TZOFFSETFROM:+0100
TZOFFSETTO:+0200
TZNAME:CEST
DTSTART:20210328T010000
END:DAYLIGHT
BEGIN:STANDARD
TZOFFSETFROM:+0200
TZOFFSETTO:+0100
TZNAME:CET
DTSTART:20211031T010000
END:STANDARD
BEGIN:DAYLIGHT
TZOFFSETFROM:+0100
TZOFFSETTO:+0200
TZNAME:CEST
DTSTART:20220327T010000
END:DAYLIGHT
BEGIN:STANDARD
TZOFFSETFROM:+0200
TZOFFSETTO:+0100
TZNAME:CET
DTSTART:20221030T010000
END:STANDARD
BEGIN:DAYLIGHT
TZOFFSETFROM:+0100
TZOFFSETTO:+0200
TZNAME:CEST
DTSTART:20230326T010000
END:DAYLIGHT
BEGIN:STANDARD
TZOFFSETFROM:+0200
TZOFFSETTO:+0100
TZNAME:CET
DTSTART:20231029T010000
END:STANDARD
END:VTIMEZONE
BEGIN:VEVENT
DTSTART;TZID=Europe/Paris:20220816T180000
DTEND;TZID=Europe/Paris:20220816T190000
DTSTAMP:20260421T145205
CREATED:20220801T102601Z
LAST-MODIFIED:20220814T112357Z
UID:2144-1660672800-1660676400@autofrei-nbg.de
SUMMARY:Neueinsteiger*innentreffen
DESCRIPTION:Wir stellen unser Konzept vor.\nLern uns kennen\, wir freuen uns auf dich. \nmitmachen@autofrei-nbg.de \nAchtung\, Ortsänderung: Königstraße 64! Sehe Bild auf Twitter: \n\n\nNächstes Einsteiger*innentreffen am Dienstag 16.08 um 18:00 Uhr\, diesmal in der Altstadt\, Königsstraße 64\, Treffpunkt neben dem Bosporus Restaurant (siehe Bild) pic.twitter.com/bYX1KL2RvD \n— Nürnberg Autofrei (@NAutofrei) August 12\, 2022
URL:https://autofrei-nbg.de/veranstaltung/neueinsteigerinnentreffen-3/
LOCATION:Königstraße 64\, Königstraße 64\, Nürnberg\, Deutschland
ORGANIZER;CN="N%C3%BCrnberg autofrei":MAILTO:kontakt@autofrei-nbg.de
END:VEVENT
END:VCALENDAR