BEGIN:VCALENDAR
VERSION:2.0
PRODID:-//Nürnberg autofrei - ECPv6.15.20//NONSGML v1.0//EN
CALSCALE:GREGORIAN
METHOD:PUBLISH
X-ORIGINAL-URL:https://autofrei-nbg.de
X-WR-CALDESC:Veranstaltungen für Nürnberg autofrei
REFRESH-INTERVAL;VALUE=DURATION:PT1H
X-Robots-Tag:noindex
X-PUBLISHED-TTL:PT1H
BEGIN:VTIMEZONE
TZID:Europe/Paris
BEGIN:DAYLIGHT
TZOFFSETFROM:+0100
TZOFFSETTO:+0200
TZNAME:CEST
DTSTART:20210328T010000
END:DAYLIGHT
BEGIN:STANDARD
TZOFFSETFROM:+0200
TZOFFSETTO:+0100
TZNAME:CET
DTSTART:20211031T010000
END:STANDARD
BEGIN:DAYLIGHT
TZOFFSETFROM:+0100
TZOFFSETTO:+0200
TZNAME:CEST
DTSTART:20220327T010000
END:DAYLIGHT
BEGIN:STANDARD
TZOFFSETFROM:+0200
TZOFFSETTO:+0100
TZNAME:CET
DTSTART:20221030T010000
END:STANDARD
BEGIN:DAYLIGHT
TZOFFSETFROM:+0100
TZOFFSETTO:+0200
TZNAME:CEST
DTSTART:20230326T010000
END:DAYLIGHT
BEGIN:STANDARD
TZOFFSETFROM:+0200
TZOFFSETTO:+0100
TZNAME:CET
DTSTART:20231029T010000
END:STANDARD
END:VTIMEZONE
BEGIN:VEVENT
DTSTART;VALUE=DATE:20220701
DTEND;VALUE=DATE:20220704
DTSTAMP:20260421T162906
CREATED:20220620T201712Z
LAST-MODIFIED:20220620T201712Z
UID:1574-1656633600-1656892799@autofrei-nbg.de
SUMMARY:Südstadtfest
DESCRIPTION:Am Südstadtfest unterstützt Nürnberg Autofrei das Team des Klimaentscheids. Selbstverständlich reden wir auch gerne über Mobilität in Nürnberg. Da kann jeder und jede uns auch persönlich und unverbindlich kennenlernen: schaut also gerne vorbei und sagt Hallo! \nMehr Informationen zum Event findet ihr auf der Webseite des Fests.
URL:https://autofrei-nbg.de/veranstaltung/suedstadtfest/
LOCATION:Maffeiplatz\, Nürnberg\, Maffeiplatz\, Nürnberg\, Bayern\, 90459\, Deutschland
END:VEVENT
BEGIN:VEVENT
DTSTART;TZID=Europe/Paris:20220702T153000
DTEND;TZID=Europe/Paris:20220702T180000
DTSTAMP:20260421T162906
CREATED:20220617T101622Z
LAST-MODIFIED:20220618T190037Z
UID:1384-1656775800-1656784800@autofrei-nbg.de
SUMMARY:Jahreshauptversammlung autofrei leben! e.V.
DESCRIPTION:Liebe Mitglieder von autofrei leben!\,\nwir laden herzlich ein zur\nMitgliederversammlung\nvon „autofrei leben! e.V.“\nam Samstag\, den 2.Juli 2022 um 15:30\nin der Virchowstraße 27 in 90409 Nürnberg
URL:https://autofrei-nbg.de/veranstaltung/jahreshauptversammlung-autofrei-leben-ev/
END:VEVENT
BEGIN:VEVENT
DTSTART;TZID=Europe/Paris:20220714T170000
DTEND;TZID=Europe/Paris:20220714T220000
DTSTAMP:20260421T162906
CREATED:20220706T162100Z
LAST-MODIFIED:20220706T162148Z
UID:1807-1657818000-1657836000@autofrei-nbg.de
SUMMARY:Arbeitstreffen Autopie
DESCRIPTION:Dieses Auto wird ab dem 23.07 als Parklet in der Südstadt stehen. Zuvor wird es umgedreht und ausgestattet mit Bänken und einen Tisch\, Pflanzen ect. Dafür brauchen wir eure Hilfe!\nWir würden uns freuen\, wenn möglichst viele kreative und Handwerker*innen am Donnerstag\, 14.07 um 17:00 Uhr zum Nordgarten kommen. Da findet das Arbeitstreffen dazu statt                               
URL:https://autofrei-nbg.de/veranstaltung/arbeitstreffen-autopie/
ORGANIZER;CN="N%C3%BCrnberg autofrei":MAILTO:kontakt@autofrei-nbg.de
END:VEVENT
BEGIN:VEVENT
DTSTART;TZID=Europe/Paris:20220720T190000
DTEND;TZID=Europe/Paris:20220720T210000
DTSTAMP:20260421T162906
CREATED:20220626T180702Z
LAST-MODIFIED:20220626T180702Z
UID:1709-1658343600-1658350800@autofrei-nbg.de
SUMMARY:"Autostadt Nürnberg?" im Bildungszentrum
DESCRIPTION:„Autostadt Nürnberg?“ Wie wollen wir mobil bleiben? – Vortrag und Diskussion – Bildungszentrum Nürnberg (nuernberg.de) \nVerkehr ist nicht nur in Nürnberg ein schwieriges Thema. Flexibel ist\, wer automobil ist\, der Umstieg auf den ÖPNV scheint zu unattraktiv. Im Berufsverkehr hat allerdings fast niemand Spaß im Auto\, doch Ausbauprojekte wie der Frankenschnellweg stoßen auf harten Gegenwind. Initiativen wie der Radentscheid versuchen\, mehr Platz für den Radverkehr zu erstreiten. Und doch werden die meisten Wege in großen Städten zu Fuß zurückgelegt. Dabei scheint uns das Bild der Stadt voll von Autos selbstverständlich – sie ist ja schließlich so gebaut. \nWas heute unveränderbar aussieht\, kann sich schon bald in einem maßgeblichen Umbruch befinden\, wie es einige große europäische Städte bereits vorhaben. \nDaniele Ullmann aus dem Forschungsteam Intelligente Verkehrsplanung der TH Nürnberg referiert über den aktuellen Stand der Forschung. \nDiese Veranstaltung soll Raum bieten\, den Status Quo der „autogerechten“ Stadt zu hinterfragen. Liegt die Zukunft in der Abkehr vom motorisierten Individualverkehr? Wäre es möglich\, dennoch mobil zu sein? Wann ist Mobilität wirklich allen gerecht? Über diese und andere Themen wollen wir sprechen und ein facettenreiches Bild davon zeichnen\, was Nürnberg sich vom mobil sein erwartet und was möglich ist.
URL:https://autofrei-nbg.de/veranstaltung/autostadt-nuernberg-im-bildungszentrum/
END:VEVENT
BEGIN:VEVENT
DTSTART;TZID=Europe/Paris:20220723T110000
DTEND;TZID=Europe/Paris:20220723T113000
DTSTAMP:20260421T162906
CREATED:20220706T161057Z
LAST-MODIFIED:20220706T161057Z
UID:1800-1658574000-1658575800@autofrei-nbg.de
SUMMARY:Pressekonferenz Nürnberg Autofrei
DESCRIPTION:Nach der Demo und vor dem Kreativtag geben wir eine Pressekonferenz
URL:https://autofrei-nbg.de/veranstaltung/pressekonferenz-nuernberg-autofrei/
ORGANIZER;CN="N%C3%BCrnberg autofrei":MAILTO:kontakt@autofrei-nbg.de
END:VEVENT
BEGIN:VEVENT
DTSTART;TZID=Europe/Paris:20220723T113000
DTEND;TZID=Europe/Paris:20220723T170000
DTSTAMP:20260421T162906
CREATED:20220626T180215Z
LAST-MODIFIED:20220706T160735Z
UID:1707-1658575800-1658595600@autofrei-nbg.de
SUMMARY:Parkplätze für Alle! Eine Autopie
DESCRIPTION:Zusammen mit den Nachbar*innen aus der Südstadt wollen wir einen Parkplatz auf den Kopf stellen! Aus einem ausgemusterten Auto machen wir einen sozialen Raum\, wo sonst leere Privaträume abgestellt werden. Für den Sommer erweitern wir in einer Mitmach-\, Bastel- und Werkelaktion den Gehsteig um 2 Parkflächen und schaffen einen Treffpunkt\, um das Leben wieder auf die Straße zu bringen.\nKonkret schweißen wir ein Auto vom Schrottplatz um\, sodass es auf dem Kopf stehen kann\, befördern es an den gewünschten Ort und veranstalten einen Kreativ-Tag\, um aus dem Auto einen Sitzplatz\, Spielplatz oder Platz-Park zu machen. Diesen beantragen wir beim Liegenschaftsamt zur Sondernutzung\, um den so geschaffenen Raum für die Draußen-Saison zu erhalten. Wir denken den öffentlichen Raum so neu – und zwar für alle\, nicht nur für 2 Autobesitzer*innen – und erhöhen die Aufenthaltsqualität in der Stadt. \nKarl-Bröger-Straße
URL:https://autofrei-nbg.de/veranstaltung/parkplaetze-fuer-alle-eine-autopie/
END:VEVENT
BEGIN:VEVENT
DTSTART;TZID=Europe/Paris:20220729T140000
DTEND;TZID=Europe/Paris:20220729T180000
DTSTAMP:20260421T162906
CREATED:20220729T085752Z
LAST-MODIFIED:20220729T085856Z
UID:2126-1659103200-1659117600@autofrei-nbg.de
SUMMARY:Grün am Kohlenhof für Gostenhof
DESCRIPTION:Nürnberg Autofrei beteiligt sich an der Veranstaltung\, die unter anderem von dem VCD\, Bund Naturschutz und BauLust e. V. organisiert wird. \nDie Pressemitteilung als PDF. \nDas Plakat für die Veranstaltung.
URL:https://autofrei-nbg.de/veranstaltung/gruen-am-kohlenhof-fuer-gostenhof/
ORGANIZER;CN="N%C3%BCrnberg autofrei":MAILTO:kontakt@autofrei-nbg.de
END:VEVENT
END:VCALENDAR