

BEGIN:VCALENDAR
VERSION:2.0
PRODID:-//Nürnberg autofrei - ECPv6.15.20//NONSGML v1.0//EN
CALSCALE:GREGORIAN
METHOD:PUBLISH
X-ORIGINAL-URL:https://autofrei-nbg.de
X-WR-CALDESC:Veranstaltungen für Nürnberg autofrei
REFRESH-INTERVAL;VALUE=DURATION:PT1H
X-Robots-Tag:noindex
X-PUBLISHED-TTL:PT1H
BEGIN:VTIMEZONE
TZID:Europe/Paris
BEGIN:DAYLIGHT
TZOFFSETFROM:+0100
TZOFFSETTO:+0200
TZNAME:CEST
DTSTART:20210328T010000
END:DAYLIGHT
BEGIN:STANDARD
TZOFFSETFROM:+0200
TZOFFSETTO:+0100
TZNAME:CET
DTSTART:20211031T010000
END:STANDARD
BEGIN:DAYLIGHT
TZOFFSETFROM:+0100
TZOFFSETTO:+0200
TZNAME:CEST
DTSTART:20220327T010000
END:DAYLIGHT
BEGIN:STANDARD
TZOFFSETFROM:+0200
TZOFFSETTO:+0100
TZNAME:CET
DTSTART:20221030T010000
END:STANDARD
BEGIN:DAYLIGHT
TZOFFSETFROM:+0100
TZOFFSETTO:+0200
TZNAME:CEST
DTSTART:20230326T010000
END:DAYLIGHT
BEGIN:STANDARD
TZOFFSETFROM:+0200
TZOFFSETTO:+0100
TZNAME:CET
DTSTART:20231029T010000
END:STANDARD
END:VTIMEZONE
BEGIN:VEVENT
DTSTART;TZID=Europe/Paris:20220614T180000
DTEND;TZID=Europe/Paris:20220614T203000
DTSTAMP:20260421T175121
CREATED:20220604T132835Z
LAST-MODIFIED:20220609T064939Z
UID:1051-1655229600-1655238600@autofrei-nbg.de
SUMMARY:Offenes Plenum
DESCRIPTION:Offenes Plenum von „Nürnberg autofrei“. \nIhr seid herzlich willkommen uns kennenzulernen. Wenn ihr es schafft meldet euch gerne vorher bei uns\, dass wir euch kontaktieren können\, falls sich der Ort ändert. Ihr könnt aber auch immer gerne spontan vorbeikommen! \nAb 18 Uhr: Einsteiger*innentreffen\nAb 19 Uhr: allgemeines Plenum
URL:https://autofrei-nbg.de/veranstaltung/offenes-plenum/
LOCATION:Martha-Café\, Marthastraße 35\, Nürnberg\, Bayern\, 90482
END:VEVENT
BEGIN:VEVENT
DTSTART;TZID=Europe/Paris:20220619T160000
DTEND;TZID=Europe/Paris:20220619T180000
DTSTAMP:20260421T175121
CREATED:20220617T100644Z
LAST-MODIFIED:20220617T100933Z
UID:1380-1655654400-1655661600@autofrei-nbg.de
SUMMARY:Autostadt Nürnberg
DESCRIPTION:Wie wollen wir mobil bleiben? – Diskussionsveranstaltung am 19.06. in der DESI \nVerkehr ist nicht nur in Nürnberg ein schwieriges Thema. Flexibel ist\, wer automobil ist\, der Umstieg auf den ÖPNV scheint zu unattraktiv. Im Berufsverkehr hat allerdings fast niemand Spaß im Auto\, doch Ausbauprojekte wie der Frankenschnellweg stoßen auf harten Gegenwind und Initiativen wie der Radentscheid versuchen\, mehr Platz für den Radverkehr zu erstreiten. Und dennoch werden die meisten Wege in großen Städten zu Fuß zurückgelegt. Dabei scheint uns das Bild der Stadt voll von Autos selbstverständlich – sie ist ja schließlich so gebaut.\nWas heute unveränderbar aussieht\, kann sich schon bald in einem maßgeblichen Umbruch befinden\, wie es einige große europäische Städte bereits vorhaben. \nWir laden euch ein\, den Status Quo der „autogerechten“ Stadt zu hinterfragen. Liegt die Zukunft in der Abkehr vom motorisierten Individualverkehr? Wäre es möglich\, dennoch mobil zu sein? Wann ist Mobilität wirklich allen gerecht? Über diese und andere Themen wollen wir sprechen und ein facettenreiches Bild davon zeichnen\, was Nürnberg sich vom mobil sein erwartet und was möglich ist. \norganisiert von Mitgliedern des Klimazirkus Nürnberg \nEinlass: 16:00 Uhr\nStart: 16:30 Uhr\nEnde: 18:30 Uhr \nEintritt frei\, um Spende für die Raummiete wird gebeten.
URL:https://autofrei-nbg.de/veranstaltung/autostadt-nuernberg-4/
END:VEVENT
BEGIN:VEVENT
DTSTART;TZID=Europe/Paris:20220623T193000
DTEND;TZID=Europe/Paris:20220623T210000
DTSTAMP:20260421T175121
CREATED:20220617T101925Z
LAST-MODIFIED:20220617T101925Z
UID:1386-1656012600-1656018000@autofrei-nbg.de
SUMMARY:Katja Diehl liest aus ihrem Buch „Autokorrektur - Mobilität für eine lebenswerte Welt“
DESCRIPTION:So geht Mobilität für alle!\nMit Schwung\, Know-how und Kreativität macht Mobilitätsexpertin Katja Diehl Lust auf eine Gesellschaft\, die gemeinsam eine attraktive und klimafreundliche Zukunft für alle baut – mit mehr Lebensqualität in Städten und auf dem Land. \nDie ÖDP Nürnberg freut sich auf einen kurzweiligen\, informativen und motivierenden Abend mit Katja Diehl. Ihren Analysen und Zielen fühlen wir uns als ÖDP sehr verbunden. \nWir wollen Freiheit von Zuviel\, denn Verzicht ist unsere Rettung. \nKartenreservierungen bitte per E-Mail an: reservierungoedp-nuernberg.de.\nEintritt: 5 € (Sozialpreis) bis 10 € (Solidarpreis)\nEinlass\, Ticket- und Bücherverkauf ab 19:00 Uhr\, Beginn 19:30 Uhr
URL:https://autofrei-nbg.de/veranstaltung/katja-diehl-liest-aus-ihrem-buch-autokorrektur-mobilitaet-fuer-eine-lebenswerte-welt/
END:VEVENT
BEGIN:VEVENT
DTSTART;TZID=Europe/Paris:20220624T143000
DTEND;TZID=Europe/Paris:20220624T183000
DTSTAMP:20260421T175121
CREATED:20220604T133429Z
LAST-MODIFIED:20220620T202025Z
UID:1053-1656081000-1656095400@autofrei-nbg.de
SUMMARY:Demonstration zur Mobilitätswende zusammen mit Klimazirkus Nürnberg
DESCRIPTION:Wir demonstrieren heute für eine gerechte Mobilitätswende in Nürnberg zusammen mit dem Klimazirkus. \nGemeinsam verwandeln wir den Hallertor in eine Utopie. \nKommt vorbei und tauscht euch mit uns aus oder informiert euch über unsere Forderungen. Werdet Teil der Bewegung! \nWeitere Informationen gibt es auch auf der Webseite des Klimazirkus!
URL:https://autofrei-nbg.de/veranstaltung/demonstration-zur-mobilitaetswende-zusammen-mit-klimazirkus-nuernberg/
LOCATION:Hallertor Nürnberg\, Am Hallertor\, Nürnberg\, 90403
END:VEVENT
BEGIN:VEVENT
DTSTART;TZID=Europe/Paris:20220625T160000
DTEND;TZID=Europe/Paris:20220625T190000
DTSTAMP:20260421T175121
CREATED:20220617T101201Z
LAST-MODIFIED:20220617T101201Z
UID:1382-1656172800-1656183600@autofrei-nbg.de
SUMMARY:Vernetzungstreffen
DESCRIPTION:Vernetzungstreffen am 25.06 von 16:00 – 19:00 Uhr.\nFür nähere Infos schreibt an mitmachen@autofrei-nbg.de
URL:https://autofrei-nbg.de/veranstaltung/vernetzungstreffen/
END:VEVENT
BEGIN:VEVENT
DTSTART;TZID=Europe/Paris:20220630T170000
DTEND;TZID=Europe/Paris:20220630T180000
DTSTAMP:20260421T175121
CREATED:20220629T171211Z
LAST-MODIFIED:20220629T171211Z
UID:1720-1656608400-1656612000@autofrei-nbg.de
SUMMARY:Autostadt Nürnberg? Vischer Kulturladen
DESCRIPTION:KUF Veranstaltungen – KUF Kultur (nuernberg.de) \nVerkehr ist nicht nur in Nürnberg ein schwieriges Thema. Flexibel ist\, wer automobil ist\, der Umstieg auf den ÖPNV scheint zu unattraktiv. Im Berufsverkehr hat allerdings fast niemand Spaß im Auto\, doch Ausbauprojekte wie der Frankenschnellweg stoßen auf harten Gegenwind. Initiativen wie der Radentscheid versuchen\, mehr Platz für den Radverkehr zu erstreiten. Und doch werden die meisten Wege in großen Städten zu Fuß zurückgelegt. Dabei scheint uns das Bild der Stadt voll von Autos selbstverständlich – sie ist ja schließlich so gebaut. \nWas heute unveränderbar aussieht\, kann sich schon bald in einem maßgeblichen Umbruch befinden\, wie es einige große europäische Städte bereits vorhaben. \nDiese Veranstaltung soll Raum bieten\, den Status Quo der „autogerechten“ Stadt zu hinterfragen. Liegt die Zukunft in der Abkehr vom motorisierten Individualverkehr? Wäre es möglich\, dennoch mobil zu sein? Wann ist Mobilität wirklich allen gerecht? Über diese und andere Themen wollen wir sprechen und ein facettenreiches Bild davon zeichnen\, was Nürnberg sich vom mobil sein erwartet und was möglich ist.
URL:https://autofrei-nbg.de/veranstaltung/autostadt-nuernberg-vischer-kulturladen/
LOCATION:Bielingstraße 1\, Bielingplatz\, Nürnber\, Bayern\, 90419\, Deutschland
END:VEVENT
END:VCALENDAR